BEGIN:VCALENDAR
VERSION:2.0
PRODID:-//Comunidade das Nações - ECPv4.6.10.1//NONSGML v1.0//EN
CALSCALE:GREGORIAN
METHOD:PUBLISH
X-WR-CALNAME:Comunidade das Nações
X-ORIGINAL-URL:http://cnfortaleza.com.br
X-WR-CALDESC:Events for Comunidade das Nações
BEGIN:VEVENT
DTSTART;VALUE=DATE:20180501
DTEND;VALUE=DATE:20180502
DTSTAMP:20260424T085254
CREATED:20180122T165818Z
LAST-MODIFIED:20180302T141429Z
UID:484-1525132800-1525219199@cnfortaleza.com.br
SUMMARY:Treinamento de líderes de PG
DESCRIPTION:
URL:http://cnfortaleza.com.br/calendario/treinamento-de-lideres-de-pg/
LOCATION:Rua Santa Esmeralda\, 110\, Fortaleza\, Ceará\, 60170-110\, Brasil
CATEGORIES:Eventos CN
END:VEVENT
END:VCALENDAR