BEGIN:VCALENDAR
VERSION:2.0
PRODID:-//Comunidade das Nações - ECPv4.6.10.1//NONSGML v1.0//EN
CALSCALE:GREGORIAN
METHOD:PUBLISH
X-WR-CALNAME:Comunidade das Nações
X-ORIGINAL-URL:http://cnfortaleza.com.br
X-WR-CALDESC:Events for Comunidade das Nações
BEGIN:VEVENT
DTSTART;VALUE=DATE:20180907
DTEND;VALUE=DATE:20180909
DTSTAMP:20260424T163536
CREATED:20180122T165703Z
LAST-MODIFIED:20180122T165703Z
UID:480-1536278400-1536451199@cnfortaleza.com.br
SUMMARY:Retiro de Casais
DESCRIPTION:
URL:http://cnfortaleza.com.br/calendario/retiro-de-casais/
LOCATION:Rua Santa Esmeralda\, 110\, Fortaleza\, Ceará\, 60170-110\, Brasil
CATEGORIES:Eventos CN
END:VEVENT
END:VCALENDAR