BEGIN:VCALENDAR
VERSION:2.0
PRODID:-//Comunidade das Nações - ECPv4.6.10.1//NONSGML v1.0//EN
CALSCALE:GREGORIAN
METHOD:PUBLISH
X-WR-CALNAME:Comunidade das Nações
X-ORIGINAL-URL:http://cnfortaleza.com.br
X-WR-CALDESC:Events for Comunidade das Nações
BEGIN:VEVENT
DTSTART;VALUE=DATE:20181127
DTEND;VALUE=DATE:20181128
DTSTAMP:20260425T031525
CREATED:20181114T044252Z
LAST-MODIFIED:20181114T044252Z
UID:859-1543276800-1543363199@cnfortaleza.com.br
SUMMARY:Oração Juventude CN
DESCRIPTION:Acontecerá no Auditório A02. \n
URL:http://cnfortaleza.com.br/calendario/oracao-juventude-cn-2/
LOCATION:Rua Santa Esmeralda\, 110\, Fortaleza\, Ceará\, 60170-110\, Brasil
CATEGORIES:Eventos CN
ORGANIZER;CN="CN":MAILTO:contato@cnfortaleza.com.br
END:VEVENT
END:VCALENDAR