BEGIN:VCALENDAR
VERSION:2.0
PRODID:-//Comunidade das Nações - ECPv4.6.10.1//NONSGML v1.0//EN
CALSCALE:GREGORIAN
METHOD:PUBLISH
X-WR-CALNAME:Comunidade das Nações
X-ORIGINAL-URL:http://cnfortaleza.com.br
X-WR-CALDESC:Events for Comunidade das Nações
BEGIN:VEVENT
DTSTART;TZID=America/Sao_Paulo:20180127T180000
DTEND;TZID=America/Sao_Paulo:20180127T200000
DTSTAMP:20260423T183819
CREATED:20180118T160933Z
LAST-MODIFIED:20180118T160933Z
UID:425-1517076000-1517083200@cnfortaleza.com.br
SUMMARY:MOVE (Jovens de 15 a 19 anos)
DESCRIPTION:
URL:http://cnfortaleza.com.br/calendario/move-jovens-de-15-a-19-anos/
LOCATION:Rua Santa Esmeralda\, 110\, Fortaleza\, Ceará\, 60170-110\, Brasil
CATEGORIES:Eventos CN
END:VEVENT
END:VCALENDAR