BEGIN:VCALENDAR
VERSION:2.0
PRODID:-//Comunidade das Nações - ECPv4.6.10.1//NONSGML v1.0//EN
CALSCALE:GREGORIAN
METHOD:PUBLISH
X-WR-CALNAME:Comunidade das Nações
X-ORIGINAL-URL:http://cnfortaleza.com.br
X-WR-CALDESC:Events for Comunidade das Nações
BEGIN:VEVENT
DTSTART;VALUE=DATE:20181115
DTEND;VALUE=DATE:20181116
DTSTAMP:20260424T183211
CREATED:20181112T174715Z
LAST-MODIFIED:20181112T174715Z
UID:812-1542240000-1542326399@cnfortaleza.com.br
SUMMARY:Metanoia
DESCRIPTION:• METANOIA NEUROSUMMIT •\nNeurociência para atingir grandes resultados! \nA BSL Academia de Líderes apresenta o Metanoia Neurosummit. Um evento de imersão sobre neurociência para alta performance com profissionais especializados para potencializar sua mente e seu futuro. \nDurante o dia 15 de novembro\, na Comunidade das Nações Fortaleza\, estarão conosco a Dra. Caroline Leaf\, neurocientista cognitiva com doutorado em patologia em logopedia e audiologia\, o conferencista JB Carvalho\, bacharel em teologia e autor de 12 livros\, com ênfase na formação de líderes; o sociólogo Fabricio Miguel\, graduado em sociologia com especialização em psicologia e mestre em teologia e a Dra. Rosana Alves\, diretora acadêmica do Neurogenese Intitute\, com mestrado\, doutorado e três pós-doutorado em Neurociência. \n• Temas que serão abordados:\nVISÃO GERAL DAS SESSÕES\nMATÉRIA DOS CONTROLES DA MENTE\nESCOLHAS MUDAM SEU CÉREBRO/ FAZEM MUITO BEM\nPENSANDO\, DEUS E O CÉREBRO DA FÍSICA QUÂNTICA\nA CIÊNCIA DO PENSAMENTO\nMÁQUINA SUBSTITUINDO O HOMEM\nPROCESSO CRIATIVO E LIDERANÇA\nMETANOIA\nPOTENCIALIZE SEU CÉREBRO\nNEUROPLASTISCIDADE \nTe desafiamos a participar desse momento! 👊🏼\nInscreva-se já! \n✅ Investimento:\nR$ 140\,00. \n📍 Endereço: Rua Santa Esmeralda\, 110 – Dionisio Torres. \n☎️ Informações de contato:\n(85) 99152-8929\n(85) 99402-5558 \n
URL:http://cnfortaleza.com.br/calendario/metanoia/
LOCATION:Rua Santa Esmeralda\, 110\, Fortaleza\, Ceará\, 60170-110\, Brasil
CATEGORIES:Eventos CN
ORGANIZER;CN="CN":MAILTO:contato@cnfortaleza.com.br
END:VEVENT
END:VCALENDAR