BEGIN:VCALENDAR
VERSION:2.0
PRODID:-//Comunidade das Nações - ECPv4.6.10.1//NONSGML v1.0//EN
CALSCALE:GREGORIAN
METHOD:PUBLISH
X-WR-CALNAME:Comunidade das Nações
X-ORIGINAL-URL:http://cnfortaleza.com.br
X-WR-CALDESC:Events for Comunidade das Nações
BEGIN:VEVENT
DTSTART;TZID=America/Sao_Paulo:20180130T190000
DTEND;TZID=America/Sao_Paulo:20180130T210000
DTSTAMP:20260423T200727
CREATED:20180118T161059Z
LAST-MODIFIED:20180118T161059Z
UID:427-1517338800-1517346000@cnfortaleza.com.br
SUMMARY:Jovens do Litoral (Jovens de 20 a 28 anos)
DESCRIPTION:
URL:http://cnfortaleza.com.br/calendario/jovens-do-litoral-jovens-de-20-a-28-anos/
LOCATION:Rua Santa Esmeralda\, 110\, Fortaleza\, Ceará\, 60170-110\, Brasil
CATEGORIES:Eventos CN
END:VEVENT
END:VCALENDAR