BEGIN:VCALENDAR
VERSION:2.0
PRODID:-//Comunidade das Nações - ECPv4.6.10.1//NONSGML v1.0//EN
CALSCALE:GREGORIAN
METHOD:PUBLISH
X-WR-CALNAME:Comunidade das Nações
X-ORIGINAL-URL:http://cnfortaleza.com.br
X-WR-CALDESC:Events for Comunidade das Nações
BEGIN:VEVENT
DTSTART;TZID=America/Sao_Paulo:20180211T100000
DTEND;TZID=America/Sao_Paulo:20180211T210000
DTSTAMP:20260423T230014
CREATED:20180122T164354Z
LAST-MODIFIED:20180122T172046Z
UID:456-1518343200-1518382800@cnfortaleza.com.br
SUMMARY:Domingo de Carnaval: Rodolfo Abrantes
DESCRIPTION:
URL:http://cnfortaleza.com.br/calendario/domingo-de-carnaval/
LOCATION:Rua Santa Esmeralda\, 110\, Fortaleza\, Ceará\, 60170-110\, Brasil
CATEGORIES:Eventos CN
END:VEVENT
END:VCALENDAR