BEGIN:VCALENDAR
VERSION:2.0
PRODID:-//Comunidade das Nações - ECPv4.6.10.1//NONSGML v1.0//EN
CALSCALE:GREGORIAN
METHOD:PUBLISH
X-WR-CALNAME:Comunidade das Nações
X-ORIGINAL-URL:http://cnfortaleza.com.br
X-WR-CALDESC:Events for Comunidade das Nações
BEGIN:VEVENT
DTSTART;TZID=America/Sao_Paulo:20181120T200000
DTEND;TZID=America/Sao_Paulo:20181120T220000
DTSTAMP:20260424T232743
CREATED:20181114T043004Z
LAST-MODIFIED:20181114T043004Z
UID:851-1542744000-1542751200@cnfortaleza.com.br
SUMMARY:Culto Homens
DESCRIPTION:Acontecerá no Auditório A01. \n
URL:http://cnfortaleza.com.br/calendario/culto-homens/
LOCATION:Rua Santa Esmeralda\, 110\, Fortaleza\, Ceará\, 60170-110\, Brasil
CATEGORIES:Eventos CN
ORGANIZER;CN="CN":MAILTO:contato@cnfortaleza.com.br
END:VEVENT
END:VCALENDAR