BEGIN:VCALENDAR
VERSION:2.0
PRODID:-//Comunidade das Nações - ECPv4.6.10.1//NONSGML v1.0//EN
CALSCALE:GREGORIAN
METHOD:PUBLISH
X-WR-CALNAME:Comunidade das Nações
X-ORIGINAL-URL:http://cnfortaleza.com.br
X-WR-CALDESC:Events for Comunidade das Nações
BEGIN:VEVENT
DTSTART;TZID=America/Sao_Paulo:20180124T193000
DTEND;TZID=America/Sao_Paulo:20180124T213000
DTSTAMP:20260423T201817
CREATED:20180118T160455Z
LAST-MODIFIED:20180118T160455Z
UID:419-1516822200-1516829400@cnfortaleza.com.br
SUMMARY:Culto Bem Mais Vencedores
DESCRIPTION:
URL:http://cnfortaleza.com.br/calendario/culto-bem-mais-vencedores/
LOCATION:Rua Santa Esmeralda\, 110\, Fortaleza\, Ceará\, 60170-110\, Brasil
CATEGORIES:Eventos CN
END:VEVENT
END:VCALENDAR