BEGIN:VCALENDAR
VERSION:2.0
PRODID:-//Comunidade das Nações - ECPv4.6.10.1//NONSGML v1.0//EN
CALSCALE:GREGORIAN
METHOD:PUBLISH
X-WR-CALNAME:Comunidade das Nações
X-ORIGINAL-URL:http://cnfortaleza.com.br
X-WR-CALDESC:Events for Comunidade das Nações
BEGIN:VEVENT
DTSTART;TZID=America/Sao_Paulo:20181119T193000
DTEND;TZID=America/Sao_Paulo:20181119T213000
DTSTAMP:20260424T192935
CREATED:20181114T042550Z
LAST-MODIFIED:20181114T042550Z
UID:847-1542655800-1542663000@cnfortaleza.com.br
SUMMARY:CR
DESCRIPTION:\n\n\nO Ministério do Celebrando a Recuperação tem encontros todas as segundas-feiras às 19h30. Desfazendo mentiras\, sofismas\, culturas e fortalezas que escravizam e distorcem a sua forma de pensar e agir\, o CR tem sido um canal de cura e libertação. Durante os momentos semanais\, os participantes são ministrados e também convidados a testemunharem. \nCom ética\, amor e carinho\, o ministério tem alcançado vidas e celebrado\, de fato\, incontáveis recuperações para a honra e glória do nome de Jesus. \n\n\n\n
URL:http://cnfortaleza.com.br/calendario/cr/
LOCATION:Rua Santa Esmeralda\, 110\, Fortaleza\, Ceará\, 60170-110\, Brasil
CATEGORIES:Eventos CN
ORGANIZER;CN="CN":MAILTO:contato@cnfortaleza.com.br
END:VEVENT
END:VCALENDAR