BEGIN:VCALENDAR
VERSION:2.0
PRODID:-//Comunidade das Nações - ECPv4.6.10.1//NONSGML v1.0//EN
CALSCALE:GREGORIAN
METHOD:PUBLISH
X-WR-CALNAME:Comunidade das Nações
X-ORIGINAL-URL:http://cnfortaleza.com.br
X-WR-CALDESC:Events for Comunidade das Nações
BEGIN:VEVENT
DTSTART;TZID=America/Sao_Paulo:20180122T193000
DTEND;TZID=America/Sao_Paulo:20180122T213000
DTSTAMP:20260424T001702
CREATED:20180118T155953Z
LAST-MODIFIED:20180118T155953Z
UID:412-1516649400-1516656600@cnfortaleza.com.br
SUMMARY:CR das Nações
DESCRIPTION:
URL:http://cnfortaleza.com.br/calendario/cr-das-nacoes/
LOCATION:Rua Santa Esmeralda\, 110\, Fortaleza\, Ceará\, 60170-110\, Brasil
CATEGORIES:Eventos CN
END:VEVENT
END:VCALENDAR