BEGIN:VCALENDAR
VERSION:2.0
PRODID:-//Comunidade das Nações - ECPv4.6.10.1//NONSGML v1.0//EN
CALSCALE:GREGORIAN
METHOD:PUBLISH
X-WR-CALNAME:Comunidade das Nações
X-ORIGINAL-URL:http://cnfortaleza.com.br
X-WR-CALDESC:Events for Comunidade das Nações
BEGIN:VEVENT
DTSTART;TZID=America/Sao_Paulo:20181124T160000
DTEND;TZID=America/Sao_Paulo:20181124T180000
DTSTAMP:20260425T003721
CREATED:20181112T175622Z
LAST-MODIFIED:20181115T035304Z
UID:814-1543075200-1543082400@cnfortaleza.com.br
SUMMARY:Check-in
DESCRIPTION:
URL:http://cnfortaleza.com.br/calendario/check-in-2/
LOCATION:Rua Santa Esmeralda\, 110\, Fortaleza\, Ceará\, 60170-110\, Brasil
CATEGORIES:Eventos CN
ORGANIZER;CN="CN":MAILTO:contato@cnfortaleza.com.br
END:VEVENT
END:VCALENDAR